Package: MOSim Version: 1.16.0 Command: /Library/Frameworks/R.framework/Resources/bin/R CMD build --keep-empty-dirs --no-resave-data MOSim StartedAt: 2024-04-16 22:12:44 -0400 (Tue, 16 Apr 2024) EndedAt: 2024-04-16 22:19:48 -0400 (Tue, 16 Apr 2024) EllapsedTime: 423.7 seconds RetCode: 0 Status: OK PackageFile: MOSim_1.16.0.tar.gz PackageFileSize: 4.548 MiB