Package: MOFA2 Version: 1.12.1 Command: /Library/Frameworks/R.framework/Resources/bin/R CMD build --keep-empty-dirs --no-resave-data MOFA2 StartedAt: 2024-04-16 22:06:15 -0400 (Tue, 16 Apr 2024) EndedAt: 2024-04-16 22:08:17 -0400 (Tue, 16 Apr 2024) EllapsedTime: 122.0 seconds RetCode: 1 Status: ERROR PackageFile: None PackageFileSize: NA