Package: MMAPPR2 Version: 1.16.0 Command: /Library/Frameworks/R.framework/Resources/bin/R CMD INSTALL MMAPPR2 StartedAt: 2024-04-16 11:19:17 -0400 (Tue, 16 Apr 2024) EndedAt: 2024-04-16 11:20:13 -0400 (Tue, 16 Apr 2024) EllapsedTime: 56.4 seconds RetCode: 0 Status: OK