Package: MEAL Version: 1.32.0 Command: /Library/Frameworks/R.framework/Resources/bin/R CMD INSTALL MEAL StartedAt: 2024-04-16 12:48:49 -0400 (Tue, 16 Apr 2024) EndedAt: 2024-04-16 12:49:46 -0400 (Tue, 16 Apr 2024) EllapsedTime: 57.2 seconds RetCode: 0 Status: OK