Package: MEAL Version: 1.32.0 Command: /Library/Frameworks/R.framework/Resources/bin/R CMD check --install=check:MEAL.install-out.txt --library=/Library/Frameworks/R.framework/Resources/library --no-vignettes --timings MEAL_1.32.0.tar.gz StartedAt: 2024-04-17 18:30:23 -0400 (Wed, 17 Apr 2024) EndedAt: 2024-04-17 18:37:09 -0400 (Wed, 17 Apr 2024) EllapsedTime: 406.5 seconds RetCode: 0 Status: WARNINGS CheckDir: MEAL.Rcheck Warnings: 3