Package: MEAL Version: 1.32.0 Command: /Library/Frameworks/R.framework/Resources/bin/R CMD build --keep-empty-dirs --no-resave-data MEAL StartedAt: 2024-04-16 21:10:55 -0400 (Tue, 16 Apr 2024) EndedAt: 2024-04-16 21:17:55 -0400 (Tue, 16 Apr 2024) EllapsedTime: 419.7 seconds RetCode: 0 Status: OK PackageFile: MEAL_1.32.0.tar.gz PackageFileSize: 2.102 MiB