Package: MDTS Version: 1.22.0 Command: /Library/Frameworks/R.framework/Resources/bin/R CMD build --keep-empty-dirs --no-resave-data MDTS StartedAt: 2024-04-16 21:10:54 -0400 (Tue, 16 Apr 2024) EndedAt: 2024-04-16 21:11:44 -0400 (Tue, 16 Apr 2024) EllapsedTime: 50.0 seconds RetCode: 0 Status: OK PackageFile: MDTS_1.22.0.tar.gz PackageFileSize: 31.36 KiB