Package: MDTS Version: 1.22.0 Command: rm -rf MDTS.buildbin-libdir && mkdir MDTS.buildbin-libdir && /Users/biocbuild/BBS/utils/build-universal.sh MDTS_1.22.0.tar.gz /Library/Frameworks/R.framework/Resources/bin/R MDTS.buildbin-libdir StartedAt: 2024-04-18 09:58:51 -0400 (Thu, 18 Apr 2024) EndedAt: 2024-04-18 09:59:32 -0400 (Thu, 18 Apr 2024) EllapsedTime: 40.7 seconds RetCode: 0 Status: OK PackageFile: MDTS_1.22.0.tgz PackageFileSize: 78.7 KiB