Package: MBECS Version: 1.6.0 Command: /Library/Frameworks/R.framework/Resources/bin/R CMD build --keep-empty-dirs --no-resave-data MBECS StartedAt: 2024-04-16 21:08:07 -0400 (Tue, 16 Apr 2024) EndedAt: 2024-04-16 21:09:22 -0400 (Tue, 16 Apr 2024) EllapsedTime: 75.9 seconds RetCode: 0 Status: OK PackageFile: MBECS_1.6.0.tar.gz PackageFileSize: 1.722 MiB