Package: MBCB Version: 1.56.0 Command: /Library/Frameworks/R.framework/Resources/bin/R CMD build --keep-empty-dirs --no-resave-data MBCB StartedAt: 2024-04-16 21:07:55 -0400 (Tue, 16 Apr 2024) EndedAt: 2024-04-16 21:08:07 -0400 (Tue, 16 Apr 2024) EllapsedTime: 11.3 seconds RetCode: 0 Status: OK PackageFile: MBCB_1.56.0.tar.gz PackageFileSize: 408.7 KiB