Package: MAST Version: 1.28.0 Command: /Library/Frameworks/R.framework/Resources/bin/R CMD INSTALL MAST StartedAt: 2024-04-16 10:30:29 -0400 (Tue, 16 Apr 2024) EndedAt: 2024-04-16 10:31:19 -0400 (Tue, 16 Apr 2024) EllapsedTime: 50.1 seconds RetCode: 0 Status: OK