Package: MANOR Version: 1.74.0 Command: /Library/Frameworks/R.framework/Resources/bin/R CMD check --install=check:MANOR.install-out.txt --library=/Library/Frameworks/R.framework/Resources/library --no-vignettes --timings MANOR_1.74.0.tar.gz StartedAt: 2024-04-17 18:12:17 -0400 (Wed, 17 Apr 2024) EndedAt: 2024-04-17 18:12:59 -0400 (Wed, 17 Apr 2024) EllapsedTime: 41.1 seconds RetCode: 0 Status: WARNINGS CheckDir: MANOR.Rcheck Warnings: 3