Package: MAI Version: 1.8.0 Command: /Library/Frameworks/R.framework/Resources/bin/R CMD INSTALL MAI StartedAt: 2024-04-16 12:20:01 -0400 (Tue, 16 Apr 2024) EndedAt: 2024-04-16 12:20:34 -0400 (Tue, 16 Apr 2024) EllapsedTime: 33.5 seconds RetCode: 0 Status: OK