Package: MAGAR Version: 1.10.0 Command: /Library/Frameworks/R.framework/Resources/bin/R CMD check --install=check:MAGAR.install-out.txt --library=/Library/Frameworks/R.framework/Resources/library --no-vignettes --timings MAGAR_1.10.0.tar.gz StartedAt: 2024-04-17 18:06:11 -0400 (Wed, 17 Apr 2024) EndedAt: 2024-04-17 18:15:59 -0400 (Wed, 17 Apr 2024) EllapsedTime: 588.3 seconds RetCode: 0 Status: OK CheckDir: MAGAR.Rcheck Warnings: 0