Package: MACSQuantifyR Version: 1.16.0 Command: /Library/Frameworks/R.framework/Resources/bin/R CMD INSTALL MACSQuantifyR StartedAt: 2024-04-16 11:41:39 -0400 (Tue, 16 Apr 2024) EndedAt: 2024-04-16 11:41:46 -0400 (Tue, 16 Apr 2024) EllapsedTime: 7.2 seconds RetCode: 0 Status: OK