Package: M3C Version: 1.24.0 Maintainer: Christopher John MaintainerEmail: chris.r.john86 at gmail.com git_url: https://git.bioconductor.org/packages/M3C git_branch: RELEASE_3_18 git_last_commit: 995cac9 git_last_commit_date: 2023-10-24 10:58:55 -0400 (Tue, 24 Oct 2023)