Package: LymphoSeq Version: 1.30.0 Maintainer: David Coffey MaintainerEmail: dcoffey at fredhutch.org git_url: https://git.bioconductor.org/packages/LymphoSeq git_branch: RELEASE_3_18 git_last_commit: a2049d8 git_last_commit_date: 2023-10-24 10:49:45 -0400 (Tue, 24 Oct 2023)