Package: LineagePulse Version: 1.22.0 Command: /Library/Frameworks/R.framework/Resources/bin/R CMD INSTALL LineagePulse StartedAt: 2024-04-16 11:05:20 -0400 (Tue, 16 Apr 2024) EndedAt: 2024-04-16 11:05:21 -0400 (Tue, 16 Apr 2024) EllapsedTime: 1.2 seconds RetCode: 1 Status: ERROR