Package: LedPred Version: 1.36.0 Command: /Library/Frameworks/R.framework/Resources/bin/R CMD check --install=check:LedPred.install-out.txt --library=/Library/Frameworks/R.framework/Resources/library --no-vignettes --timings LedPred_1.36.0.tar.gz StartedAt: 2024-04-17 17:45:28 -0400 (Wed, 17 Apr 2024) EndedAt: 2024-04-17 17:46:33 -0400 (Wed, 17 Apr 2024) EllapsedTime: 64.2 seconds RetCode: 0 Status: OK CheckDir: LedPred.Rcheck Warnings: 0