Package: LRBaseDbi Version: 2.12.1 Command: /Library/Frameworks/R.framework/Resources/bin/R CMD INSTALL LRBaseDbi StartedAt: 2024-04-16 10:37:22 -0400 (Tue, 16 Apr 2024) EndedAt: 2024-04-16 10:37:38 -0400 (Tue, 16 Apr 2024) EllapsedTime: 16.1 seconds RetCode: 0 Status: OK