Package: LPEadj Version: 1.62.0 Command: /Library/Frameworks/R.framework/Resources/bin/R CMD check --install=check:LPEadj.install-out.txt --library=/Library/Frameworks/R.framework/Resources/library --no-vignettes --timings LPEadj_1.62.0.tar.gz StartedAt: 2024-04-17 17:56:02 -0400 (Wed, 17 Apr 2024) EndedAt: 2024-04-17 17:56:25 -0400 (Wed, 17 Apr 2024) EllapsedTime: 23.0 seconds RetCode: 0 Status: WARNINGS CheckDir: LPEadj.Rcheck Warnings: 1