Package: LPE Version: 1.76.0 Command: /Library/Frameworks/R.framework/Resources/bin/R CMD check --install=check:LPE.install-out.txt --library=/Library/Frameworks/R.framework/Resources/library --no-vignettes --timings LPE_1.76.0.tar.gz StartedAt: 2024-04-17 17:55:47 -0400 (Wed, 17 Apr 2024) EndedAt: 2024-04-17 17:56:16 -0400 (Wed, 17 Apr 2024) EllapsedTime: 28.4 seconds RetCode: 0 Status: OK CheckDir: LPE.Rcheck Warnings: 0