Package: LPE Version: 1.76.0 Command: /Library/Frameworks/R.framework/Resources/bin/R CMD build --keep-empty-dirs --no-resave-data LPE StartedAt: 2024-04-16 20:52:31 -0400 (Tue, 16 Apr 2024) EndedAt: 2024-04-16 20:52:44 -0400 (Tue, 16 Apr 2024) EllapsedTime: 13.5 seconds RetCode: 0 Status: OK PackageFile: LPE_1.76.0.tar.gz PackageFileSize: 436.8 KiB