Package: LPE Version: 1.76.0 Maintainer: Nitin Jain MaintainerEmail: emailnitinjain at gmail.com git_url: https://git.bioconductor.org/packages/LPE git_branch: RELEASE_3_18 git_last_commit: 97f628d git_last_commit_date: 2023-10-24 09:32:45 -0400 (Tue, 24 Oct 2023)