Package: LOLA Version: 1.32.0 Command: /Library/Frameworks/R.framework/Resources/bin/R CMD INSTALL LOLA StartedAt: 2024-04-16 10:15:54 -0400 (Tue, 16 Apr 2024) EndedAt: 2024-04-16 10:16:08 -0400 (Tue, 16 Apr 2024) EllapsedTime: 14.2 seconds RetCode: 0 Status: OK