Package: LEA Version: 3.14.0 Command: /Library/Frameworks/R.framework/Resources/bin/R CMD INSTALL LEA StartedAt: 2024-04-16 10:03:59 -0400 (Tue, 16 Apr 2024) EndedAt: 2024-04-16 10:04:20 -0400 (Tue, 16 Apr 2024) EllapsedTime: 20.9 seconds RetCode: 0 Status: OK