Package: IsoCorrectoR Version: 1.20.0 Maintainer: Christian Kohler MaintainerEmail: christian.kohler at ur.de git_url: https://git.bioconductor.org/packages/IsoCorrectoR git_branch: RELEASE_3_18 git_last_commit: 3178d35 git_last_commit_date: 2023-10-24 11:08:06 -0400 (Tue, 24 Oct 2023)