Package: InterMineR Version: 1.24.0 Command: /Library/Frameworks/R.framework/Resources/bin/R CMD INSTALL InterMineR StartedAt: 2024-04-16 10:40:28 -0400 (Tue, 16 Apr 2024) EndedAt: 2024-04-16 10:41:03 -0400 (Tue, 16 Apr 2024) EllapsedTime: 34.5 seconds RetCode: 0 Status: OK