Package: Informeasure Version: 1.12.1 Command: /Library/Frameworks/R.framework/Resources/bin/R CMD check --install=check:Informeasure.install-out.txt --library=/Library/Frameworks/R.framework/Resources/library --no-vignettes --timings Informeasure_1.12.1.tar.gz StartedAt: 2024-04-17 16:56:57 -0400 (Wed, 17 Apr 2024) EndedAt: 2024-04-17 16:57:21 -0400 (Wed, 17 Apr 2024) EllapsedTime: 23.6 seconds RetCode: 0 Status: OK CheckDir: Informeasure.Rcheck Warnings: 0