Package: Informeasure Version: 1.12.1 Command: /Library/Frameworks/R.framework/Resources/bin/R CMD build --keep-empty-dirs --no-resave-data Informeasure StartedAt: 2024-04-16 20:22:52 -0400 (Tue, 16 Apr 2024) EndedAt: 2024-04-16 20:23:07 -0400 (Tue, 16 Apr 2024) EllapsedTime: 14.3 seconds RetCode: 0 Status: OK PackageFile: Informeasure_1.12.1.tar.gz PackageFileSize: 276.7 KiB