Package: Icens Version: 1.74.0 Command: /Library/Frameworks/R.framework/Resources/bin/R CMD check --install=check:Icens.install-out.txt --library=/Library/Frameworks/R.framework/Resources/library --no-vignettes --timings Icens_1.74.0.tar.gz StartedAt: 2024-04-17 16:37:21 -0400 (Wed, 17 Apr 2024) EndedAt: 2024-04-17 16:38:21 -0400 (Wed, 17 Apr 2024) EllapsedTime: 60.0 seconds RetCode: 0 Status: OK CheckDir: Icens.Rcheck Warnings: 0