Package: Icens Version: 1.74.0 Command: /Library/Frameworks/R.framework/Resources/bin/R CMD build --keep-empty-dirs --no-resave-data Icens StartedAt: 2024-04-16 20:07:45 -0400 (Tue, 16 Apr 2024) EndedAt: 2024-04-16 20:07:47 -0400 (Tue, 16 Apr 2024) EllapsedTime: 1.2 seconds RetCode: 0 Status: OK PackageFile: Icens_1.74.0.tar.gz PackageFileSize: 20.84 KiB