Package: IWTomics Version: 1.26.0 Command: /Library/Frameworks/R.framework/Resources/bin/R CMD check --install=check:IWTomics.install-out.txt --library=/Library/Frameworks/R.framework/Resources/library --no-vignettes --timings IWTomics_1.26.0.tar.gz StartedAt: 2024-04-17 17:34:49 -0400 (Wed, 17 Apr 2024) EndedAt: 2024-04-17 17:38:15 -0400 (Wed, 17 Apr 2024) EllapsedTime: 206.6 seconds RetCode: 0 Status: WARNINGS CheckDir: IWTomics.Rcheck Warnings: 1