Package: IVAS Version: 2.22.0 Command: /Library/Frameworks/R.framework/Resources/bin/R CMD INSTALL IVAS StartedAt: 2024-04-16 11:48:10 -0400 (Tue, 16 Apr 2024) EndedAt: 2024-04-16 11:48:59 -0400 (Tue, 16 Apr 2024) EllapsedTime: 49.3 seconds RetCode: 0 Status: OK