Package: ISoLDE Version: 1.30.0 Command: rm -rf ISoLDE.buildbin-libdir && mkdir ISoLDE.buildbin-libdir && /Users/biocbuild/BBS/utils/build-universal.sh ISoLDE_1.30.0.tar.gz /Library/Frameworks/R.framework/Resources/bin/R ISoLDE.buildbin-libdir StartedAt: 2024-04-18 09:49:44 -0400 (Thu, 18 Apr 2024) EndedAt: 2024-04-18 09:49:52 -0400 (Thu, 18 Apr 2024) EllapsedTime: 7.9 seconds RetCode: 0 Status: OK PackageFile: ISoLDE_1.30.0.tgz PackageFileSize: 1.233 MiB