Package: IPO Version: 1.28.0 Command: rm -rf IPO.buildbin-libdir && mkdir IPO.buildbin-libdir && /Users/biocbuild/BBS/utils/build-universal.sh IPO_1.28.0.tar.gz /Library/Frameworks/R.framework/Resources/bin/R IPO.buildbin-libdir StartedAt: 2024-04-18 09:47:49 -0400 (Thu, 18 Apr 2024) EndedAt: 2024-04-18 09:48:57 -0400 (Thu, 18 Apr 2024) EllapsedTime: 67.6 seconds RetCode: 0 Status: OK PackageFile: IPO_1.28.0.tgz PackageFileSize: 811.4 KiB