Package: IONiseR Version: 2.26.0 Command: /Library/Frameworks/R.framework/Resources/bin/R CMD build --keep-empty-dirs --no-resave-data IONiseR StartedAt: 2024-04-16 20:27:35 -0400 (Tue, 16 Apr 2024) EndedAt: 2024-04-16 20:30:25 -0400 (Tue, 16 Apr 2024) EllapsedTime: 169.4 seconds RetCode: 0 Status: OK PackageFile: IONiseR_2.26.0.tar.gz PackageFileSize: 4.185 MiB