Package: INDEED Version: 2.16.0 Command: /Library/Frameworks/R.framework/Resources/bin/R CMD build --keep-empty-dirs --no-resave-data INDEED StartedAt: 2024-04-16 20:21:05 -0400 (Tue, 16 Apr 2024) EndedAt: 2024-04-16 20:21:17 -0400 (Tue, 16 Apr 2024) EllapsedTime: 12.3 seconds RetCode: 0 Status: OK PackageFile: INDEED_2.16.0.tar.gz PackageFileSize: 1.857 MiB