Package: INDEED Version: 2.16.0 Command: rm -rf INDEED.buildbin-libdir && mkdir INDEED.buildbin-libdir && /Users/biocbuild/BBS/utils/build-universal.sh INDEED_2.16.0.tar.gz /Library/Frameworks/R.framework/Resources/bin/R INDEED.buildbin-libdir StartedAt: 2024-04-18 09:45:00 -0400 (Thu, 18 Apr 2024) EndedAt: 2024-04-18 09:45:10 -0400 (Thu, 18 Apr 2024) EllapsedTime: 10.2 seconds RetCode: 0 Status: OK PackageFile: INDEED_2.16.0.tgz PackageFileSize: 779 KiB