Package: IFAA Version: 1.4.0 Command: /Library/Frameworks/R.framework/Resources/bin/R CMD build --keep-empty-dirs --no-resave-data IFAA StartedAt: 2024-04-16 20:12:26 -0400 (Tue, 16 Apr 2024) EndedAt: 2024-04-16 20:14:54 -0400 (Tue, 16 Apr 2024) EllapsedTime: 148.0 seconds RetCode: 0 Status: OK PackageFile: IFAA_1.4.0.tar.gz PackageFileSize: 500.2 KiB