Package: HilbertCurve Version: 1.32.0 Command: /Library/Frameworks/R.framework/Resources/bin/R CMD INSTALL HilbertCurve StartedAt: 2024-04-16 10:14:10 -0400 (Tue, 16 Apr 2024) EndedAt: 2024-04-16 10:14:25 -0400 (Tue, 16 Apr 2024) EllapsedTime: 15.2 seconds RetCode: 0 Status: OK