Package: HilbertCurve Version: 1.32.0 Command: /Library/Frameworks/R.framework/Resources/bin/R CMD check --install=check:HilbertCurve.install-out.txt --library=/Library/Frameworks/R.framework/Resources/library --no-vignettes --timings HilbertCurve_1.32.0.tar.gz StartedAt: 2024-04-17 16:22:22 -0400 (Wed, 17 Apr 2024) EndedAt: 2024-04-17 16:24:42 -0400 (Wed, 17 Apr 2024) EllapsedTime: 140.0 seconds RetCode: 0 Status: OK CheckDir: HilbertCurve.Rcheck Warnings: 0