Package: HilbertCurve Version: 1.32.0 Command: /Library/Frameworks/R.framework/Resources/bin/R CMD build --keep-empty-dirs --no-resave-data HilbertCurve StartedAt: 2024-04-16 19:59:38 -0400 (Tue, 16 Apr 2024) EndedAt: 2024-04-16 20:01:51 -0400 (Tue, 16 Apr 2024) EllapsedTime: 133.2 seconds RetCode: 0 Status: OK PackageFile: HilbertCurve_1.32.0.tar.gz PackageFileSize: 11.49 MiB