Package: HilbertCurve Version: 1.32.0 Command: rm -rf HilbertCurve.buildbin-libdir && mkdir HilbertCurve.buildbin-libdir && /Users/biocbuild/BBS/utils/build-universal.sh HilbertCurve_1.32.0.tar.gz /Library/Frameworks/R.framework/Resources/bin/R HilbertCurve.buildbin-libdir StartedAt: 2024-04-18 09:40:56 -0400 (Thu, 18 Apr 2024) EndedAt: 2024-04-18 09:41:18 -0400 (Thu, 18 Apr 2024) EllapsedTime: 21.8 seconds RetCode: 0 Status: OK PackageFile: HilbertCurve_1.32.0.tgz PackageFileSize: 8.261 MiB