Package: HiCcompare Version: 1.24.0 Command: /Library/Frameworks/R.framework/Resources/bin/R CMD INSTALL HiCcompare StartedAt: 2024-04-16 10:42:32 -0400 (Tue, 16 Apr 2024) EndedAt: 2024-04-16 10:43:21 -0400 (Tue, 16 Apr 2024) EllapsedTime: 48.8 seconds RetCode: 0 Status: OK