Package: HiCcompare Version: 1.24.0 Command: rm -rf HiCcompare.buildbin-libdir && mkdir HiCcompare.buildbin-libdir && /Users/biocbuild/BBS/utils/build-universal.sh HiCcompare_1.24.0.tar.gz /Library/Frameworks/R.framework/Resources/bin/R HiCcompare.buildbin-libdir StartedAt: 2024-04-18 09:39:54 -0400 (Thu, 18 Apr 2024) EndedAt: 2024-04-18 09:40:54 -0400 (Thu, 18 Apr 2024) EllapsedTime: 60.1 seconds RetCode: 0 Status: OK PackageFile: HiCcompare_1.24.0.tgz PackageFileSize: 3.793 MiB