Package: HiCDOC Version: 1.4.1 Command: /Library/Frameworks/R.framework/Resources/bin/R CMD INSTALL HiCDOC StartedAt: 2024-04-16 10:44:19 -0400 (Tue, 16 Apr 2024) EndedAt: 2024-04-16 10:45:09 -0400 (Tue, 16 Apr 2024) EllapsedTime: 50.7 seconds RetCode: 0 Status: OK