Package: HiCDOC Version: 1.4.1 Command: /Library/Frameworks/R.framework/Resources/bin/R CMD build --keep-empty-dirs --no-resave-data HiCDOC StartedAt: 2024-04-16 19:55:01 -0400 (Tue, 16 Apr 2024) EndedAt: 2024-04-16 19:58:24 -0400 (Tue, 16 Apr 2024) EllapsedTime: 202.9 seconds RetCode: 0 Status: OK PackageFile: HiCDOC_1.4.1.tar.gz PackageFileSize: 3.542 MiB