Package: HiCDOC Version: 1.4.1 Command: rm -rf HiCDOC.buildbin-libdir && mkdir HiCDOC.buildbin-libdir && /Users/biocbuild/BBS/utils/build-universal.sh HiCDOC_1.4.1.tar.gz /Library/Frameworks/R.framework/Resources/bin/R HiCDOC.buildbin-libdir StartedAt: 2024-04-18 09:40:04 -0400 (Thu, 18 Apr 2024) EndedAt: 2024-04-18 09:41:09 -0400 (Thu, 18 Apr 2024) EllapsedTime: 64.8 seconds RetCode: 0 Status: OK PackageFile: HiCDOC_1.4.1.tgz PackageFileSize: 3.52 MiB