Package: HelloRanges Version: 1.28.0 Command: /Library/Frameworks/R.framework/Resources/bin/R CMD INSTALL HelloRanges StartedAt: 2024-04-16 11:12:28 -0400 (Tue, 16 Apr 2024) EndedAt: 2024-04-16 11:13:26 -0400 (Tue, 16 Apr 2024) EllapsedTime: 57.8 seconds RetCode: 0 Status: OK